BEGIN:VCALENDAR
VERSION:2.0
PRODID:spatie/icalendar-generator
NAME:Emotional Intelligence
X-WR-CALNAME:Emotional Intelligence
BEGIN:VTIMEZONE
TZID:America/Chicago
BEGIN:DAYLIGHT
DTSTART:20220313T010000
TZOFFSETFROM:-0600
TZOFFSETTO:-0500
END:DAYLIGHT
BEGIN:STANDARD
DTSTART:20221106T010000
TZOFFSETFROM:-0500
TZOFFSETTO:-0600
END:STANDARD
BEGIN:DAYLIGHT
DTSTART:20230312T010000
TZOFFSETFROM:-0600
TZOFFSETTO:-0500
END:DAYLIGHT
END:VTIMEZONE
BEGIN:VTIMEZONE
TZID:UTC
BEGIN:STANDARD
DTSTART:20250724T192240
TZOFFSETFROM:+0000
TZOFFSETTO:+0000
END:STANDARD
END:VTIMEZONE
BEGIN:VEVENT
UID:69e67d004309f
DTSTAMP:20260420T192240Z
SUMMARY:Emotional Intelligence
URL:https://alabama.cpa/catalog/events/1753574-emotional-intelligence-2022-
 17-11
DTSTART;TZID=America/Chicago:20221117T140000
DTEND;TZID=America/Chicago:20221117T150400
END:VEVENT
END:VCALENDAR