BEGIN:VCALENDAR
VERSION:2.0
PRODID:spatie/icalendar-generator
NAME:IRS Penalties and Abatements
X-WR-CALNAME:IRS Penalties and Abatements
BEGIN:VTIMEZONE
TZID:America/Chicago
BEGIN:DAYLIGHT
DTSTART:20220313T010000
TZOFFSETFROM:-0600
TZOFFSETTO:-0500
END:DAYLIGHT
BEGIN:STANDARD
DTSTART:20221106T010000
TZOFFSETFROM:-0500
TZOFFSETTO:-0600
END:STANDARD
BEGIN:DAYLIGHT
DTSTART:20230312T010000
TZOFFSETFROM:-0600
TZOFFSETTO:-0500
END:DAYLIGHT
END:VTIMEZONE
BEGIN:VTIMEZONE
TZID:UTC
BEGIN:STANDARD
DTSTART:20250725T194121
TZOFFSETFROM:+0000
TZOFFSETTO:+0000
END:STANDARD
END:VTIMEZONE
BEGIN:VEVENT
UID:69e7d2e130773
DTSTAMP:20260421T194121Z
SUMMARY:IRS Penalties and Abatements
URL:https://alabama.cpa/catalog/events/1754396-irs-penalties-and-abatements
 -2022-30-11
DTSTART;TZID=America/Chicago:20221130T110000
DTEND;TZID=America/Chicago:20221130T130000
END:VEVENT
END:VCALENDAR