BEGIN:VCALENDAR
VERSION:2.0
PRODID:spatie/icalendar-generator
NAME:K2’s 2022’s Biggest Security And Privacy Concerns
X-WR-CALNAME:K2’s 2022’s Biggest Security And Privacy Concerns
BEGIN:VTIMEZONE
TZID:America/Chicago
BEGIN:DAYLIGHT
DTSTART:20220313T010000
TZOFFSETFROM:-0600
TZOFFSETTO:-0500
END:DAYLIGHT
BEGIN:STANDARD
DTSTART:20221106T010000
TZOFFSETFROM:-0500
TZOFFSETTO:-0600
END:STANDARD
BEGIN:DAYLIGHT
DTSTART:20230312T010000
TZOFFSETFROM:-0600
TZOFFSETTO:-0500
END:DAYLIGHT
END:VTIMEZONE
BEGIN:VTIMEZONE
TZID:UTC
BEGIN:STANDARD
DTSTART:20250725T065206
TZOFFSETFROM:+0000
TZOFFSETTO:+0000
END:STANDARD
END:VTIMEZONE
BEGIN:VEVENT
UID:69e71e960233f
DTSTAMP:20260421T065206Z
SUMMARY:K2’s 2022’s Biggest Security And Privacy Concerns
URL:https://alabama.cpa/catalog/events/1754533-k2s-2022s-biggest-security-a
 nd-privacy-concerns-2022-28-11
DTSTART;TZID=America/Chicago:20221128T150000
DTEND;TZID=America/Chicago:20221128T193300
END:VEVENT
END:VCALENDAR