BEGIN:VCALENDAR
VERSION:2.0
PRODID:spatie/icalendar-generator
NAME:K2’S Artificial Intelligence For Accounting And Financial Profession
 als
X-WR-CALNAME:K2’S Artificial Intelligence For Accounting And Financial Pr
 ofessionals
BEGIN:VTIMEZONE
TZID:America/Chicago
BEGIN:STANDARD
DTSTART:20221106T010000
TZOFFSETFROM:-0500
TZOFFSETTO:-0600
END:STANDARD
BEGIN:DAYLIGHT
DTSTART:20230312T010000
TZOFFSETFROM:-0600
TZOFFSETTO:-0500
END:DAYLIGHT
END:VTIMEZONE
BEGIN:VTIMEZONE
TZID:UTC
BEGIN:STANDARD
DTSTART:20250726T013751
TZOFFSETFROM:+0000
TZOFFSETTO:+0000
END:STANDARD
END:VTIMEZONE
BEGIN:VEVENT
UID:69e8266f40d0d
DTSTAMP:20260422T013751Z
SUMMARY:K2’S Artificial Intelligence For Accounting And Financial Profess
 ionals
URL:https://alabama.cpa/catalog/events/1755431-k2s-artificial-intelligence-
 for-accounting-and-financial-professionals-2023-14-03
DTSTART;TZID=America/Chicago:20230314T130000
DTEND;TZID=America/Chicago:20230314T173800
END:VEVENT
END:VCALENDAR