BEGIN:VCALENDAR
VERSION:2.0
PRODID:spatie/icalendar-generator
NAME:K2’S Evaluating Technology Controls
X-WR-CALNAME:K2’S Evaluating Technology Controls
BEGIN:VTIMEZONE
TZID:America/Chicago
BEGIN:STANDARD
DTSTART:20221106T010000
TZOFFSETFROM:-0500
TZOFFSETTO:-0600
END:STANDARD
BEGIN:DAYLIGHT
DTSTART:20230312T010000
TZOFFSETFROM:-0600
TZOFFSETTO:-0500
END:DAYLIGHT
END:VTIMEZONE
BEGIN:VTIMEZONE
TZID:UTC
BEGIN:STANDARD
DTSTART:20250725T151543
TZOFFSETFROM:+0000
TZOFFSETTO:+0000
END:STANDARD
END:VTIMEZONE
BEGIN:VEVENT
UID:69e7949f41dd4
DTSTAMP:20260421T151543Z
SUMMARY:K2’S Evaluating Technology Controls
URL:https://alabama.cpa/catalog/events/1757133-k2s-evaluating-technology-co
 ntrols-2023-11-03
DTSTART;TZID=America/Chicago:20230311T110000
DTEND;TZID=America/Chicago:20230311T124900
END:VEVENT
END:VCALENDAR