BEGIN:VCALENDAR
VERSION:2.0
PRODID:spatie/icalendar-generator
NAME:K2’s Excel Essentials For Staff Accountants
X-WR-CALNAME:K2’s Excel Essentials For Staff Accountants
BEGIN:VTIMEZONE
TZID:America/Chicago
BEGIN:STANDARD
DTSTART:20221106T010000
TZOFFSETFROM:-0500
TZOFFSETTO:-0600
END:STANDARD
BEGIN:DAYLIGHT
DTSTART:20230312T010000
TZOFFSETFROM:-0600
TZOFFSETTO:-0500
END:DAYLIGHT
END:VTIMEZONE
BEGIN:VTIMEZONE
TZID:UTC
BEGIN:STANDARD
DTSTART:20250726T043648
TZOFFSETFROM:+0000
TZOFFSETTO:+0000
END:STANDARD
END:VTIMEZONE
BEGIN:VEVENT
UID:69e8506038dfb
DTSTAMP:20260422T043648Z
SUMMARY:K2’s Excel Essentials For Staff Accountants
URL:https://alabama.cpa/catalog/events/1757848-k2s-excel-essentials-for-sta
 ff-accountants-2023-09-02
DTSTART;TZID=America/Chicago:20230209T090000
DTEND;TZID=America/Chicago:20230209T164200
END:VEVENT
END:VCALENDAR