BEGIN:VCALENDAR
VERSION:2.0
PRODID:spatie/icalendar-generator
NAME:K2’S Hands-On With QuickBooks Online Accountant For Public Accountin
 g
X-WR-CALNAME:K2’S Hands-On With QuickBooks Online Accountant For Public A
 ccounting
BEGIN:VTIMEZONE
TZID:America/Chicago
BEGIN:STANDARD
DTSTART:20221106T010000
TZOFFSETFROM:-0500
TZOFFSETTO:-0600
END:STANDARD
BEGIN:DAYLIGHT
DTSTART:20230312T010000
TZOFFSETFROM:-0600
TZOFFSETTO:-0500
END:DAYLIGHT
END:VTIMEZONE
BEGIN:VTIMEZONE
TZID:UTC
BEGIN:STANDARD
DTSTART:20250729T105903
TZOFFSETFROM:+0000
TZOFFSETTO:+0000
END:STANDARD
END:VTIMEZONE
BEGIN:VEVENT
UID:69ec9e7717ecc
DTSTAMP:20260425T105903Z
SUMMARY:K2’S Hands-On With QuickBooks Online Accountant For Public Accoun
 ting
URL:https://alabama.cpa/catalog/events/1758571-k2s-hands-on-with-quickbooks
 -online-accountant-for-public-accounting-2023-09-03
DTSTART;TZID=America/Chicago:20230309T150000
DTEND;TZID=America/Chicago:20230309T184000
END:VEVENT
END:VCALENDAR