BEGIN:VCALENDAR
VERSION:2.0
PRODID:spatie/icalendar-generator
NAME:K2’s Microsoft Teams
X-WR-CALNAME:K2’s Microsoft Teams
BEGIN:VTIMEZONE
TZID:America/Chicago
BEGIN:STANDARD
DTSTART:20221106T010000
TZOFFSETFROM:-0500
TZOFFSETTO:-0600
END:STANDARD
BEGIN:DAYLIGHT
DTSTART:20230312T010000
TZOFFSETFROM:-0600
TZOFFSETTO:-0500
END:DAYLIGHT
END:VTIMEZONE
BEGIN:VTIMEZONE
TZID:UTC
BEGIN:STANDARD
DTSTART:20250728T035329
TZOFFSETFROM:+0000
TZOFFSETTO:+0000
END:STANDARD
END:VTIMEZONE
BEGIN:VEVENT
UID:69eae9395e0af
DTSTAMP:20260424T035329Z
SUMMARY:K2’s Microsoft Teams
URL:https://alabama.cpa/catalog/events/1760249-k2s-microsoft-teams-2023-27-
 04
DTSTART;TZID=America/Chicago:20230427T133000
DTEND;TZID=America/Chicago:20230427T171300
END:VEVENT
END:VCALENDAR