BEGIN:VCALENDAR
VERSION:2.0
PRODID:spatie/icalendar-generator
NAME:K2’s Online Meeting And Collaboration Tools
X-WR-CALNAME:K2’s Online Meeting And Collaboration Tools
BEGIN:VTIMEZONE
TZID:America/Chicago
BEGIN:STANDARD
DTSTART:20221106T010000
TZOFFSETFROM:-0500
TZOFFSETTO:-0600
END:STANDARD
BEGIN:DAYLIGHT
DTSTART:20230312T010000
TZOFFSETFROM:-0600
TZOFFSETTO:-0500
END:DAYLIGHT
END:VTIMEZONE
BEGIN:VTIMEZONE
TZID:UTC
BEGIN:STANDARD
DTSTART:20250724T202034
TZOFFSETFROM:+0000
TZOFFSETTO:+0000
END:STANDARD
END:VTIMEZONE
BEGIN:VEVENT
UID:69e68a92b89fd
DTSTAMP:20260420T202034Z
SUMMARY:K2’s Online Meeting And Collaboration Tools
URL:https://alabama.cpa/catalog/events/1760411-k2s-online-meeting-and-colla
 boration-tools-2023-13-04
DTSTART;TZID=America/Chicago:20230413T110000
DTEND;TZID=America/Chicago:20230413T124900
END:VEVENT
END:VCALENDAR