BEGIN:VCALENDAR
VERSION:2.0
PRODID:spatie/icalendar-generator
NAME:K2’s Selecting And Vetting Technology Providers
X-WR-CALNAME:K2’s Selecting And Vetting Technology Providers
BEGIN:VTIMEZONE
TZID:America/Chicago
BEGIN:STANDARD
DTSTART:20221106T010000
TZOFFSETFROM:-0500
TZOFFSETTO:-0600
END:STANDARD
BEGIN:DAYLIGHT
DTSTART:20230312T010000
TZOFFSETFROM:-0600
TZOFFSETTO:-0500
END:DAYLIGHT
END:VTIMEZONE
BEGIN:VTIMEZONE
TZID:UTC
BEGIN:STANDARD
DTSTART:20250727T235910
TZOFFSETFROM:+0000
TZOFFSETTO:+0000
END:STANDARD
END:VTIMEZONE
BEGIN:VEVENT
UID:69eab24e81f54
DTSTAMP:20260423T235910Z
SUMMARY:K2’s Selecting And Vetting Technology Providers
URL:https://alabama.cpa/catalog/events/1761149-k2s-selecting-and-vetting-te
 chnology-providers-2023-27-03
DTSTART;TZID=America/Chicago:20230327T150000
DTEND;TZID=America/Chicago:20230327T165000
END:VEVENT
END:VCALENDAR