BEGIN:VCALENDAR
VERSION:2.0
PRODID:spatie/icalendar-generator
NAME:K2's Backups Done Right
X-WR-CALNAME:K2's Backups Done Right
BEGIN:VTIMEZONE
TZID:America/Chicago
BEGIN:STANDARD
DTSTART:20221106T010000
TZOFFSETFROM:-0500
TZOFFSETTO:-0600
END:STANDARD
BEGIN:DAYLIGHT
DTSTART:20230312T010000
TZOFFSETFROM:-0600
TZOFFSETTO:-0500
END:DAYLIGHT
END:VTIMEZONE
BEGIN:VTIMEZONE
TZID:UTC
BEGIN:STANDARD
DTSTART:20250724T013155
TZOFFSETFROM:+0000
TZOFFSETTO:+0000
END:STANDARD
END:VTIMEZONE
BEGIN:VEVENT
UID:69e5820bf1cc4
DTSTAMP:20260420T013155Z
SUMMARY:K2's Backups Done Right
URL:https://alabama.cpa/catalog/events/1763127-k2s-backups-done-right-2023-
 27-04
DTSTART;TZID=America/Chicago:20230427T130000
DTEND;TZID=America/Chicago:20230427T144900
END:VEVENT
END:VCALENDAR