BEGIN:VCALENDAR
VERSION:2.0
PRODID:spatie/icalendar-generator
NAME:K2's Hosting\, Self-Service\, And Managed Service Options
X-WR-CALNAME:K2's Hosting\, Self-Service\, And Managed Service Options
BEGIN:VTIMEZONE
TZID:America/Chicago
BEGIN:STANDARD
DTSTART:20221106T010000
TZOFFSETFROM:-0500
TZOFFSETTO:-0600
END:STANDARD
BEGIN:DAYLIGHT
DTSTART:20230312T010000
TZOFFSETFROM:-0600
TZOFFSETTO:-0500
END:DAYLIGHT
END:VTIMEZONE
BEGIN:VTIMEZONE
TZID:UTC
BEGIN:STANDARD
DTSTART:20250725T130818
TZOFFSETFROM:+0000
TZOFFSETTO:+0000
END:STANDARD
END:VTIMEZONE
BEGIN:VEVENT
UID:69e776c24902f
DTSTAMP:20260421T130818Z
SUMMARY:K2's Hosting\, Self-Service\, And Managed Service Options
URL:https://alabama.cpa/catalog/events/1764808-k2s-hosting-self-service-and
 -managed-service-options-2023-17-02
DTSTART;TZID=America/Chicago:20230217T130000
DTEND;TZID=America/Chicago:20230217T145900
END:VEVENT
END:VCALENDAR