BEGIN:VCALENDAR
VERSION:2.0
PRODID:spatie/icalendar-generator
NAME:K2's Microsoft Word Tips & Tricks
X-WR-CALNAME:K2's Microsoft Word Tips & Tricks
BEGIN:VTIMEZONE
TZID:America/Chicago
BEGIN:STANDARD
DTSTART:20221106T010000
TZOFFSETFROM:-0500
TZOFFSETTO:-0600
END:STANDARD
BEGIN:DAYLIGHT
DTSTART:20230312T010000
TZOFFSETFROM:-0600
TZOFFSETTO:-0500
END:DAYLIGHT
END:VTIMEZONE
BEGIN:VTIMEZONE
TZID:UTC
BEGIN:STANDARD
DTSTART:20250727T094528
TZOFFSETFROM:+0000
TZOFFSETTO:+0000
END:STANDARD
END:VTIMEZONE
BEGIN:VEVENT
UID:69e9ea3890ea8
DTSTAMP:20260423T094528Z
SUMMARY:K2's Microsoft Word Tips & Tricks
URL:https://alabama.cpa/catalog/events/1765495-k2s-microsoft-word-tips-tric
 ks-2023-11-02
DTSTART;TZID=America/Chicago:20230211T130000
DTEND;TZID=America/Chicago:20230211T145700
END:VEVENT
END:VCALENDAR