BEGIN:VCALENDAR
VERSION:2.0
PRODID:spatie/icalendar-generator
NAME:K2's Next Generation Excel Reporting
X-WR-CALNAME:K2's Next Generation Excel Reporting
BEGIN:VTIMEZONE
TZID:America/Chicago
BEGIN:STANDARD
DTSTART:20221106T010000
TZOFFSETFROM:-0500
TZOFFSETTO:-0600
END:STANDARD
BEGIN:DAYLIGHT
DTSTART:20230312T010000
TZOFFSETFROM:-0600
TZOFFSETTO:-0500
END:DAYLIGHT
END:VTIMEZONE
BEGIN:VTIMEZONE
TZID:UTC
BEGIN:STANDARD
DTSTART:20250728T220205
TZOFFSETFROM:+0000
TZOFFSETTO:+0000
END:STANDARD
END:VTIMEZONE
BEGIN:VEVENT
UID:69ebe85df2cf8
DTSTAMP:20260424T220205Z
SUMMARY:K2's Next Generation Excel Reporting
URL:https://alabama.cpa/catalog/events/1765715-k2s-next-generation-excel-re
 porting-2023-13-04
DTSTART;TZID=America/Chicago:20230413T080000
DTEND;TZID=America/Chicago:20230413T154500
END:VEVENT
END:VCALENDAR