BEGIN:VCALENDAR
VERSION:2.0
PRODID:spatie/icalendar-generator
NAME:K2'S Supercharging Your Spreadsheet Collaboration
X-WR-CALNAME:K2'S Supercharging Your Spreadsheet Collaboration
BEGIN:VTIMEZONE
TZID:America/Chicago
BEGIN:STANDARD
DTSTART:20221106T010000
TZOFFSETFROM:-0500
TZOFFSETTO:-0600
END:STANDARD
BEGIN:DAYLIGHT
DTSTART:20230312T010000
TZOFFSETFROM:-0600
TZOFFSETTO:-0500
END:DAYLIGHT
END:VTIMEZONE
BEGIN:VTIMEZONE
TZID:UTC
BEGIN:STANDARD
DTSTART:20250726T233633
TZOFFSETFROM:+0000
TZOFFSETTO:+0000
END:STANDARD
END:VTIMEZONE
BEGIN:VEVENT
UID:69e95b815e03d
DTSTAMP:20260422T233633Z
SUMMARY:K2'S Supercharging Your Spreadsheet Collaboration
URL:https://alabama.cpa/catalog/events/1766550-k2s-supercharging-your-sprea
 dsheet-collaboration-2023-16-03
DTSTART;TZID=America/Chicago:20230316T130000
DTEND;TZID=America/Chicago:20230316T140400
END:VEVENT
END:VCALENDAR