BEGIN:VCALENDAR
VERSION:2.0
PRODID:spatie/icalendar-generator
NAME:K2's The How’s And Why’s Of Data Analytics
X-WR-CALNAME:K2's The How’s And Why’s Of Data Analytics
BEGIN:VTIMEZONE
TZID:America/Chicago
BEGIN:STANDARD
DTSTART:20221106T010000
TZOFFSETFROM:-0500
TZOFFSETTO:-0600
END:STANDARD
BEGIN:DAYLIGHT
DTSTART:20230312T010000
TZOFFSETFROM:-0600
TZOFFSETTO:-0500
END:DAYLIGHT
END:VTIMEZONE
BEGIN:VTIMEZONE
TZID:UTC
BEGIN:STANDARD
DTSTART:20250725T035852
TZOFFSETFROM:+0000
TZOFFSETTO:+0000
END:STANDARD
END:VTIMEZONE
BEGIN:VEVENT
UID:69e6f5fc91bbf
DTSTAMP:20260421T035852Z
SUMMARY:K2's The How’s And Why’s Of Data Analytics
URL:https://alabama.cpa/catalog/events/1767594-k2s-the-hows-and-whys-of-dat
 a-analytics-2023-23-03
DTSTART;TZID=America/Chicago:20230323T130000
DTEND;TZID=America/Chicago:20230323T145500
END:VEVENT
END:VCALENDAR