BEGIN:VCALENDAR
VERSION:2.0
PRODID:spatie/icalendar-generator
NAME:K2's Working Remotely- The New Normal
X-WR-CALNAME:K2's Working Remotely- The New Normal
BEGIN:VTIMEZONE
TZID:America/Chicago
BEGIN:STANDARD
DTSTART:20221106T010000
TZOFFSETFROM:-0500
TZOFFSETTO:-0600
END:STANDARD
BEGIN:DAYLIGHT
DTSTART:20230312T010000
TZOFFSETFROM:-0600
TZOFFSETTO:-0500
END:DAYLIGHT
END:VTIMEZONE
BEGIN:VTIMEZONE
TZID:UTC
BEGIN:STANDARD
DTSTART:20250728T085449
TZOFFSETFROM:+0000
TZOFFSETTO:+0000
END:STANDARD
END:VTIMEZONE
BEGIN:VEVENT
UID:69eb2fd97f2cd
DTSTAMP:20260424T085449Z
SUMMARY:K2's Working Remotely- The New Normal
URL:https://alabama.cpa/catalog/events/1768654-k2s-working-remotely-the-new
 -normal-2023-16-03
DTSTART;TZID=America/Chicago:20230316T170000
DTEND;TZID=America/Chicago:20230316T204400
END:VEVENT
END:VCALENDAR