BEGIN:VCALENDAR
VERSION:2.0
PRODID:spatie/icalendar-generator
NAME:Navigating Difficult Conversations with Coworkers
X-WR-CALNAME:Navigating Difficult Conversations with Coworkers
BEGIN:VTIMEZONE
TZID:America/Chicago
BEGIN:DAYLIGHT
DTSTART:20220313T010000
TZOFFSETFROM:-0600
TZOFFSETTO:-0500
END:DAYLIGHT
BEGIN:STANDARD
DTSTART:20221106T010000
TZOFFSETFROM:-0500
TZOFFSETTO:-0600
END:STANDARD
BEGIN:DAYLIGHT
DTSTART:20230312T010000
TZOFFSETFROM:-0600
TZOFFSETTO:-0500
END:DAYLIGHT
END:VTIMEZONE
BEGIN:VTIMEZONE
TZID:UTC
BEGIN:STANDARD
DTSTART:20250727T123845
TZOFFSETFROM:+0000
TZOFFSETTO:+0000
END:STANDARD
END:VTIMEZONE
BEGIN:VEVENT
UID:69ea12d53f8d6
DTSTAMP:20260423T123845Z
SUMMARY:Navigating Difficult Conversations with Coworkers
URL:https://alabama.cpa/catalog/events/1769196-navigating-difficult-convers
 ations-with-coworkers-2022-29-11
DTSTART;TZID=America/Chicago:20221129T090000
DTEND;TZID=America/Chicago:20221129T100600
END:VEVENT
END:VCALENDAR