BEGIN:VCALENDAR
VERSION:2.0
PRODID:spatie/icalendar-generator
NAME:Partnerships and S Corporations: How to Calculate Basis
X-WR-CALNAME:Partnerships and S Corporations: How to Calculate Basis
BEGIN:VTIMEZONE
TZID:America/Chicago
BEGIN:STANDARD
DTSTART:20221106T010000
TZOFFSETFROM:-0500
TZOFFSETTO:-0600
END:STANDARD
BEGIN:DAYLIGHT
DTSTART:20230312T010000
TZOFFSETFROM:-0600
TZOFFSETTO:-0500
END:DAYLIGHT
END:VTIMEZONE
BEGIN:VTIMEZONE
TZID:UTC
BEGIN:STANDARD
DTSTART:20250727T235452
TZOFFSETFROM:+0000
TZOFFSETTO:+0000
END:STANDARD
END:VTIMEZONE
BEGIN:VEVENT
UID:69eab14c8ebb9
DTSTAMP:20260423T235452Z
SUMMARY:Partnerships and S Corporations: How to Calculate Basis
URL:https://alabama.cpa/catalog/events/1769367-partnerships-and-s-corporati
 ons-how-to-calculate-basis-2023-23-03
DTSTART;TZID=America/Chicago:20230323T170000
DTEND;TZID=America/Chicago:20230323T210300
END:VEVENT
END:VCALENDAR