BEGIN:VCALENDAR
VERSION:2.0
PRODID:spatie/icalendar-generator
NAME:Spring Tax Update for Business by Steve Dilley - 2022
X-WR-CALNAME:Spring Tax Update for Business by Steve Dilley - 2022
BEGIN:VTIMEZONE
TZID:America/Chicago
BEGIN:STANDARD
DTSTART:20221106T010000
TZOFFSETFROM:-0500
TZOFFSETTO:-0600
END:STANDARD
BEGIN:DAYLIGHT
DTSTART:20230312T010000
TZOFFSETFROM:-0600
TZOFFSETTO:-0500
END:DAYLIGHT
END:VTIMEZONE
BEGIN:VTIMEZONE
TZID:UTC
BEGIN:STANDARD
DTSTART:20250729T131314
TZOFFSETFROM:+0000
TZOFFSETTO:+0000
END:STANDARD
END:VTIMEZONE
BEGIN:VEVENT
UID:69ecbdeadc88d
DTSTAMP:20260425T131314Z
SUMMARY:Spring Tax Update for Business by Steve Dilley - 2022
URL:https://alabama.cpa/catalog/events/1770073-spring-tax-update-for-busine
 ss-by-steve-dilley-2022-2023-18-03
DTSTART;TZID=America/Chicago:20230318T090000
DTEND;TZID=America/Chicago:20230318T124500
END:VEVENT
END:VCALENDAR