BEGIN:VCALENDAR
VERSION:2.0
PRODID:spatie/icalendar-generator
NAME:Tuscaloosa Chapter Day of Service
X-WR-CALNAME:Tuscaloosa Chapter Day of Service
BEGIN:VTIMEZONE
TZID:America/Chicago
BEGIN:STANDARD
DTSTART:20221106T010000
TZOFFSETFROM:-0500
TZOFFSETTO:-0600
END:STANDARD
BEGIN:DAYLIGHT
DTSTART:20230312T010000
TZOFFSETFROM:-0600
TZOFFSETTO:-0500
END:DAYLIGHT
BEGIN:STANDARD
DTSTART:20231105T010000
TZOFFSETFROM:-0500
TZOFFSETTO:-0600
END:STANDARD
END:VTIMEZONE
BEGIN:VTIMEZONE
TZID:UTC
BEGIN:STANDARD
DTSTART:20250723T195535
TZOFFSETFROM:+0000
TZOFFSETTO:+0000
END:STANDARD
END:VTIMEZONE
BEGIN:VEVENT
UID:69e5333706118
DTSTAMP:20260419T195535Z
SUMMARY:Tuscaloosa Chapter Day of Service
LOCATION:2800 6th St\, Tuscaloosa\, Tuscaloosa County\, Alabama 35401
URL:https://alabama.cpa/catalog/events/2508004-tuscaloosa-chapter-day-of-se
 rvice-2023-12-05
DTSTART;TZID=America/Chicago:20230512T090000
DTEND;TZID=America/Chicago:20230512T120000
END:VEVENT
END:VCALENDAR