BEGIN:VCALENDAR
VERSION:2.0
PRODID:spatie/icalendar-generator
NAME:Coping With the Growth of Online Fraud
X-WR-CALNAME:Coping With the Growth of Online Fraud
BEGIN:VTIMEZONE
TZID:America/Chicago
BEGIN:STANDARD
DTSTART:20231105T010000
TZOFFSETFROM:-0500
TZOFFSETTO:-0600
END:STANDARD
BEGIN:DAYLIGHT
DTSTART:20240310T010000
TZOFFSETFROM:-0600
TZOFFSETTO:-0500
END:DAYLIGHT
END:VTIMEZONE
BEGIN:VTIMEZONE
TZID:UTC
BEGIN:STANDARD
DTSTART:20250729T175827
TZOFFSETFROM:+0000
TZOFFSETTO:+0000
END:STANDARD
END:VTIMEZONE
BEGIN:VEVENT
UID:69ed00c3a69d0
DTSTAMP:20260425T175827Z
SUMMARY:Coping With the Growth of Online Fraud
URL:https://alabama.cpa/catalog/events/6169582-coping-with-the-growth-of-on
 line-fraud-2024-08-02
DTSTART;TZID=America/Chicago:20240208T080000
DTEND;TZID=America/Chicago:20240208T120000
END:VEVENT
END:VCALENDAR