BEGIN:VCALENDAR
VERSION:2.0
PRODID:spatie/icalendar-generator
NAME:IRS Penalties and Abatements
X-WR-CALNAME:IRS Penalties and Abatements
BEGIN:VTIMEZONE
TZID:America/Chicago
BEGIN:STANDARD
DTSTART:20231105T010000
TZOFFSETFROM:-0500
TZOFFSETTO:-0600
END:STANDARD
BEGIN:DAYLIGHT
DTSTART:20240310T010000
TZOFFSETFROM:-0600
TZOFFSETTO:-0500
END:DAYLIGHT
END:VTIMEZONE
BEGIN:VTIMEZONE
TZID:UTC
BEGIN:STANDARD
DTSTART:20250729T152326
TZOFFSETFROM:+0000
TZOFFSETTO:+0000
END:STANDARD
END:VTIMEZONE
BEGIN:VEVENT
UID:69ecdc6e89e6b
DTSTAMP:20260425T152326Z
SUMMARY:IRS Penalties and Abatements
URL:https://alabama.cpa/catalog/events/6169696-irs-penalties-and-abatements
 -2024-12-02
DTSTART;TZID=America/Chicago:20240212T120000
DTEND;TZID=America/Chicago:20240212T140000
END:VEVENT
END:VCALENDAR