BEGIN:VCALENDAR
VERSION:2.0
PRODID:spatie/icalendar-generator
NAME:Blockchain Technology: What Every CPA Should Know
X-WR-CALNAME:Blockchain Technology: What Every CPA Should Know
BEGIN:VTIMEZONE
TZID:America/Chicago
BEGIN:STANDARD
DTSTART:20231105T010000
TZOFFSETFROM:-0500
TZOFFSETTO:-0600
END:STANDARD
BEGIN:DAYLIGHT
DTSTART:20240310T010000
TZOFFSETFROM:-0600
TZOFFSETTO:-0500
END:DAYLIGHT
END:VTIMEZONE
BEGIN:VTIMEZONE
TZID:UTC
BEGIN:STANDARD
DTSTART:20250727T083856
TZOFFSETFROM:+0000
TZOFFSETTO:+0000
END:STANDARD
END:VTIMEZONE
BEGIN:VEVENT
UID:69e9daa0804af
DTSTAMP:20260423T083856Z
SUMMARY:Blockchain Technology: What Every CPA Should Know
URL:https://alabama.cpa/catalog/events/6169815-blockchain-technology-what-e
 very-cpa-should-know-2024-15-02
DTSTART;TZID=America/Chicago:20240215T140000
DTEND;TZID=America/Chicago:20240215T160000
END:VEVENT
END:VCALENDAR