BEGIN:VCALENDAR
VERSION:2.0
PRODID:spatie/icalendar-generator
NAME:Shorten Month-End:  Closing Best Practices
X-WR-CALNAME:Shorten Month-End:  Closing Best Practices
BEGIN:VTIMEZONE
TZID:America/Chicago
BEGIN:STANDARD
DTSTART:20231105T010000
TZOFFSETFROM:-0500
TZOFFSETTO:-0600
END:STANDARD
BEGIN:DAYLIGHT
DTSTART:20240310T010000
TZOFFSETFROM:-0600
TZOFFSETTO:-0500
END:DAYLIGHT
END:VTIMEZONE
BEGIN:VTIMEZONE
TZID:UTC
BEGIN:STANDARD
DTSTART:20250725T094153
TZOFFSETFROM:+0000
TZOFFSETTO:+0000
END:STANDARD
END:VTIMEZONE
BEGIN:VEVENT
UID:69e74661e7020
DTSTAMP:20260421T094153Z
SUMMARY:Shorten Month-End:  Closing Best Practices
URL:https://alabama.cpa/catalog/events/6170173-shorten-month-end-closing-be
 st-practices-2024-28-02
DTSTART;TZID=America/Chicago:20240228T080000
DTEND;TZID=America/Chicago:20240228T120000
END:VEVENT
END:VCALENDAR