BEGIN:VCALENDAR
VERSION:2.0
PRODID:spatie/icalendar-generator
NAME:Best Non-Google Search Tools for Accountants
X-WR-CALNAME:Best Non-Google Search Tools for Accountants
BEGIN:VTIMEZONE
TZID:America/Chicago
BEGIN:STANDARD
DTSTART:20231105T010000
TZOFFSETFROM:-0500
TZOFFSETTO:-0600
END:STANDARD
BEGIN:DAYLIGHT
DTSTART:20240310T010000
TZOFFSETFROM:-0600
TZOFFSETTO:-0500
END:DAYLIGHT
END:VTIMEZONE
BEGIN:VTIMEZONE
TZID:UTC
BEGIN:STANDARD
DTSTART:20250729T123708
TZOFFSETFROM:+0000
TZOFFSETTO:+0000
END:STANDARD
END:VTIMEZONE
BEGIN:VEVENT
UID:69ecb57413641
DTSTAMP:20260425T123708Z
SUMMARY:Best Non-Google Search Tools for Accountants
URL:https://alabama.cpa/catalog/events/6170288-best-non-google-search-tools
 -for-accountants-2024-04-03
DTSTART;TZID=America/Chicago:20240304T083000
DTEND;TZID=America/Chicago:20240304T103000
END:VEVENT
END:VCALENDAR