BEGIN:VCALENDAR
VERSION:2.0
PRODID:spatie/icalendar-generator
NAME:Audit 104:  Audit Documentation - Workpapers To Pass Review
X-WR-CALNAME:Audit 104:  Audit Documentation - Workpapers To Pass Review
BEGIN:VTIMEZONE
TZID:America/Chicago
BEGIN:STANDARD
DTSTART:20231105T010000
TZOFFSETFROM:-0500
TZOFFSETTO:-0600
END:STANDARD
BEGIN:DAYLIGHT
DTSTART:20240310T010000
TZOFFSETFROM:-0600
TZOFFSETTO:-0500
END:DAYLIGHT
END:VTIMEZONE
BEGIN:VTIMEZONE
TZID:UTC
BEGIN:STANDARD
DTSTART:20250729T165857
TZOFFSETFROM:+0000
TZOFFSETTO:+0000
END:STANDARD
END:VTIMEZONE
BEGIN:VEVENT
UID:69ecf2d1287f1
DTSTAMP:20260425T165857Z
SUMMARY:Audit 104:  Audit Documentation - Workpapers To Pass Review
URL:https://alabama.cpa/catalog/events/6170294-audit-104-audit-documentatio
 n-workpapers-to-pass-review-2024-04-03
DTSTART;TZID=America/Chicago:20240304T103000
DTEND;TZID=America/Chicago:20240304T123000
END:VEVENT
END:VCALENDAR