BEGIN:VCALENDAR
VERSION:2.0
PRODID:spatie/icalendar-generator
NAME:Sales and Government Investigations\, Part 2
X-WR-CALNAME:Sales and Government Investigations\, Part 2
BEGIN:VTIMEZONE
TZID:America/Chicago
BEGIN:STANDARD
DTSTART:20231105T010000
TZOFFSETFROM:-0500
TZOFFSETTO:-0600
END:STANDARD
BEGIN:DAYLIGHT
DTSTART:20240310T010000
TZOFFSETFROM:-0600
TZOFFSETTO:-0500
END:DAYLIGHT
END:VTIMEZONE
BEGIN:VTIMEZONE
TZID:UTC
BEGIN:STANDARD
DTSTART:20250725T194434
TZOFFSETFROM:+0000
TZOFFSETTO:+0000
END:STANDARD
END:VTIMEZONE
BEGIN:VEVENT
UID:69e7d3a2ba43a
DTSTAMP:20260421T194434Z
SUMMARY:Sales and Government Investigations\, Part 2
URL:https://alabama.cpa/catalog/events/6170369-sales-and-government-investi
 gations-part-2-2024-05-03
DTSTART;TZID=America/Chicago:20240305T123000
DTEND;TZID=America/Chicago:20240305T143000
END:VEVENT
END:VCALENDAR