BEGIN:VCALENDAR
VERSION:2.0
PRODID:spatie/icalendar-generator
NAME:How Fraud Can Affect Smaller Organizations
X-WR-CALNAME:How Fraud Can Affect Smaller Organizations
BEGIN:VTIMEZONE
TZID:America/Chicago
BEGIN:STANDARD
DTSTART:20231105T010000
TZOFFSETFROM:-0500
TZOFFSETTO:-0600
END:STANDARD
BEGIN:DAYLIGHT
DTSTART:20240310T010000
TZOFFSETFROM:-0600
TZOFFSETTO:-0500
END:DAYLIGHT
END:VTIMEZONE
BEGIN:VTIMEZONE
TZID:UTC
BEGIN:STANDARD
DTSTART:20250725T190129
TZOFFSETFROM:+0000
TZOFFSETTO:+0000
END:STANDARD
END:VTIMEZONE
BEGIN:VEVENT
UID:69e7c989da19a
DTSTAMP:20260421T190129Z
SUMMARY:How Fraud Can Affect Smaller Organizations
URL:https://alabama.cpa/catalog/events/6170550-how-fraud-can-affect-smaller
 -organizations-2024-12-03
DTSTART;TZID=America/Chicago:20240312T080000
DTEND;TZID=America/Chicago:20240312T120000
END:VEVENT
END:VCALENDAR