BEGIN:VCALENDAR
VERSION:2.0
PRODID:spatie/icalendar-generator
NAME:Creating a High Performance Culture - Post Pandemic
X-WR-CALNAME:Creating a High Performance Culture - Post Pandemic
BEGIN:VTIMEZONE
TZID:America/Chicago
BEGIN:STANDARD
DTSTART:20231105T010000
TZOFFSETFROM:-0500
TZOFFSETTO:-0600
END:STANDARD
BEGIN:DAYLIGHT
DTSTART:20240310T010000
TZOFFSETFROM:-0600
TZOFFSETTO:-0500
END:DAYLIGHT
END:VTIMEZONE
BEGIN:VTIMEZONE
TZID:UTC
BEGIN:STANDARD
DTSTART:20250729T143040
TZOFFSETFROM:+0000
TZOFFSETTO:+0000
END:STANDARD
END:VTIMEZONE
BEGIN:VEVENT
UID:69ecd010d127f
DTSTAMP:20260425T143040Z
SUMMARY:Creating a High Performance Culture - Post Pandemic
URL:https://alabama.cpa/catalog/events/6170666-creating-a-high-performance-
 culture-post-pandemic-2024-14-03
DTSTART;TZID=America/Chicago:20240314T113000
DTEND;TZID=America/Chicago:20240314T123000
END:VEVENT
END:VCALENDAR