BEGIN:VCALENDAR
VERSION:2.0
PRODID:spatie/icalendar-generator
NAME:Partnerships: How to Calculate Partner Basis
X-WR-CALNAME:Partnerships: How to Calculate Partner Basis
BEGIN:VTIMEZONE
TZID:America/Chicago
BEGIN:STANDARD
DTSTART:20231105T010000
TZOFFSETFROM:-0500
TZOFFSETTO:-0600
END:STANDARD
BEGIN:DAYLIGHT
DTSTART:20240310T010000
TZOFFSETFROM:-0600
TZOFFSETTO:-0500
END:DAYLIGHT
END:VTIMEZONE
BEGIN:VTIMEZONE
TZID:UTC
BEGIN:STANDARD
DTSTART:20250729T021908
TZOFFSETFROM:+0000
TZOFFSETTO:+0000
END:STANDARD
END:VTIMEZONE
BEGIN:VEVENT
UID:69ec249c2162d
DTSTAMP:20260425T021908Z
SUMMARY:Partnerships: How to Calculate Partner Basis
URL:https://alabama.cpa/catalog/events/6170891-partnerships-how-to-calculat
 e-partner-basis-2024-21-03
DTSTART;TZID=America/Chicago:20240321T113000
DTEND;TZID=America/Chicago:20240321T133000
END:VEVENT
END:VCALENDAR