BEGIN:VCALENDAR
VERSION:2.0
PRODID:spatie/icalendar-generator
NAME:Ethics: Giving Thanks - How to Master the Art of Gratitude
X-WR-CALNAME:Ethics: Giving Thanks - How to Master the Art of Gratitude
BEGIN:VTIMEZONE
TZID:America/Chicago
BEGIN:STANDARD
DTSTART:20231105T010000
TZOFFSETFROM:-0500
TZOFFSETTO:-0600
END:STANDARD
BEGIN:DAYLIGHT
DTSTART:20240310T010000
TZOFFSETFROM:-0600
TZOFFSETTO:-0500
END:DAYLIGHT
END:VTIMEZONE
BEGIN:VTIMEZONE
TZID:UTC
BEGIN:STANDARD
DTSTART:20250727T143748
TZOFFSETFROM:+0000
TZOFFSETTO:+0000
END:STANDARD
END:VTIMEZONE
BEGIN:VEVENT
UID:69ea2ebc68f3f
DTSTAMP:20260423T143748Z
SUMMARY:Ethics: Giving Thanks - How to Master the Art of Gratitude
URL:https://alabama.cpa/catalog/events/6170949-ethics-giving-thanks-how-to-
 master-the-art-of-gratitude-2024-22-03
DTSTART;TZID=America/Chicago:20240322T133000
DTEND;TZID=America/Chicago:20240322T153000
END:VEVENT
END:VCALENDAR