BEGIN:VCALENDAR
VERSION:2.0
PRODID:spatie/icalendar-generator
NAME:Fraud & Embezzlement: Case Studies from the Trenches
X-WR-CALNAME:Fraud & Embezzlement: Case Studies from the Trenches
BEGIN:VTIMEZONE
TZID:America/Chicago
BEGIN:STANDARD
DTSTART:20231105T010000
TZOFFSETFROM:-0500
TZOFFSETTO:-0600
END:STANDARD
BEGIN:DAYLIGHT
DTSTART:20240310T010000
TZOFFSETFROM:-0600
TZOFFSETTO:-0500
END:DAYLIGHT
END:VTIMEZONE
BEGIN:VTIMEZONE
TZID:UTC
BEGIN:STANDARD
DTSTART:20250725T051019
TZOFFSETFROM:+0000
TZOFFSETTO:+0000
END:STANDARD
END:VTIMEZONE
BEGIN:VEVENT
UID:69e706bbc1564
DTSTAMP:20260421T051019Z
SUMMARY:Fraud & Embezzlement: Case Studies from the Trenches
URL:https://alabama.cpa/catalog/events/6170950-fraud-embezzlement-case-stud
 ies-from-the-trenches-2024-22-03
DTSTART;TZID=America/Chicago:20240322T123000
DTEND;TZID=America/Chicago:20240322T143000
END:VEVENT
END:VCALENDAR