BEGIN:VCALENDAR
VERSION:2.0
PRODID:spatie/icalendar-generator
NAME:Office 365 Teams App - Optimizing Your Setup & Configuration
X-WR-CALNAME:Office 365 Teams App - Optimizing Your Setup & Configuration
BEGIN:VTIMEZONE
TZID:America/Chicago
BEGIN:STANDARD
DTSTART:20231105T010000
TZOFFSETFROM:-0500
TZOFFSETTO:-0600
END:STANDARD
BEGIN:DAYLIGHT
DTSTART:20240310T010000
TZOFFSETFROM:-0600
TZOFFSETTO:-0500
END:DAYLIGHT
END:VTIMEZONE
BEGIN:VTIMEZONE
TZID:UTC
BEGIN:STANDARD
DTSTART:20250723T135246
TZOFFSETFROM:+0000
TZOFFSETTO:+0000
END:STANDARD
END:VTIMEZONE
BEGIN:VEVENT
UID:69e4de2ee6ecb
DTSTAMP:20260419T135246Z
SUMMARY:Office 365 Teams App - Optimizing Your Setup & Configuration
URL:https://alabama.cpa/catalog/events/6171079-office-365-teams-app-optimiz
 ing-your-setup-configuration-2024-27-03
DTSTART;TZID=America/Chicago:20240327T120000
DTEND;TZID=America/Chicago:20240327T160000
END:VEVENT
END:VCALENDAR