BEGIN:VCALENDAR
VERSION:2.0
PRODID:spatie/icalendar-generator
NAME:Payroll Essentials: Getting to Know Payroll Taxes
X-WR-CALNAME:Payroll Essentials: Getting to Know Payroll Taxes
BEGIN:VTIMEZONE
TZID:America/Chicago
BEGIN:STANDARD
DTSTART:20231105T010000
TZOFFSETFROM:-0500
TZOFFSETTO:-0600
END:STANDARD
BEGIN:DAYLIGHT
DTSTART:20240310T010000
TZOFFSETFROM:-0600
TZOFFSETTO:-0500
END:DAYLIGHT
END:VTIMEZONE
BEGIN:VTIMEZONE
TZID:UTC
BEGIN:STANDARD
DTSTART:20250728T220338
TZOFFSETFROM:+0000
TZOFFSETTO:+0000
END:STANDARD
END:VTIMEZONE
BEGIN:VEVENT
UID:69ebe8bae0dec
DTSTAMP:20260424T220338Z
SUMMARY:Payroll Essentials: Getting to Know Payroll Taxes
URL:https://alabama.cpa/catalog/events/6171712-payroll-essentials-getting-t
 o-know-payroll-taxes-2024-17-04
DTSTART;TZID=America/Chicago:20240417T133000
DTEND;TZID=America/Chicago:20240417T153000
END:VEVENT
END:VCALENDAR