BEGIN:VCALENDAR
VERSION:2.0
PRODID:spatie/icalendar-generator
NAME:Retirement Planning: Next Stage for You or Your Client
X-WR-CALNAME:Retirement Planning: Next Stage for You or Your Client
BEGIN:VTIMEZONE
TZID:America/Chicago
BEGIN:STANDARD
DTSTART:20231105T010000
TZOFFSETFROM:-0500
TZOFFSETTO:-0600
END:STANDARD
BEGIN:DAYLIGHT
DTSTART:20240310T010000
TZOFFSETFROM:-0600
TZOFFSETTO:-0500
END:DAYLIGHT
END:VTIMEZONE
BEGIN:VTIMEZONE
TZID:UTC
BEGIN:STANDARD
DTSTART:20250724T134814
TZOFFSETFROM:+0000
TZOFFSETTO:+0000
END:STANDARD
END:VTIMEZONE
BEGIN:VEVENT
UID:69e62e9ed157e
DTSTAMP:20260420T134814Z
SUMMARY:Retirement Planning: Next Stage for You or Your Client
URL:https://alabama.cpa/catalog/events/6171755-retirement-planning-next-sta
 ge-for-you-or-your-client-2024-18-04
DTSTART;TZID=America/Chicago:20240418T133000
DTEND;TZID=America/Chicago:20240418T153000
END:VEVENT
END:VCALENDAR