BEGIN:VCALENDAR
VERSION:2.0
PRODID:spatie/icalendar-generator
NAME:Lessons on Fraud Prevention from Sam Bankman-Fried's Crypto
X-WR-CALNAME:Lessons on Fraud Prevention from Sam Bankman-Fried's Crypto
BEGIN:VTIMEZONE
TZID:America/Chicago
BEGIN:STANDARD
DTSTART:20231105T010000
TZOFFSETFROM:-0500
TZOFFSETTO:-0600
END:STANDARD
BEGIN:DAYLIGHT
DTSTART:20240310T010000
TZOFFSETFROM:-0600
TZOFFSETTO:-0500
END:DAYLIGHT
END:VTIMEZONE
BEGIN:VTIMEZONE
TZID:UTC
BEGIN:STANDARD
DTSTART:20250730T035929
TZOFFSETFROM:+0000
TZOFFSETTO:+0000
END:STANDARD
END:VTIMEZONE
BEGIN:VEVENT
UID:69ed8da18fae8
DTSTAMP:20260426T035929Z
SUMMARY:Lessons on Fraud Prevention from Sam Bankman-Fried's Crypto
URL:https://alabama.cpa/catalog/events/6171803-lessons-on-fraud-prevention-
 from-sam-bankman-frieds-crypto-2024-19-04
DTSTART;TZID=America/Chicago:20240419T123000
DTEND;TZID=America/Chicago:20240419T143000
END:VEVENT
END:VCALENDAR