BEGIN:VCALENDAR
VERSION:2.0
PRODID:spatie/icalendar-generator
NAME:Circular 230 and Rogue Return Preparers
X-WR-CALNAME:Circular 230 and Rogue Return Preparers
BEGIN:VTIMEZONE
TZID:America/Chicago
BEGIN:STANDARD
DTSTART:20231105T010000
TZOFFSETFROM:-0500
TZOFFSETTO:-0600
END:STANDARD
BEGIN:DAYLIGHT
DTSTART:20240310T010000
TZOFFSETFROM:-0600
TZOFFSETTO:-0500
END:DAYLIGHT
END:VTIMEZONE
BEGIN:VTIMEZONE
TZID:UTC
BEGIN:STANDARD
DTSTART:20250725T092006
TZOFFSETFROM:+0000
TZOFFSETTO:+0000
END:STANDARD
END:VTIMEZONE
BEGIN:VEVENT
UID:69e74146a3b7c
DTSTAMP:20260421T092006Z
SUMMARY:Circular 230 and Rogue Return Preparers
URL:https://alabama.cpa/catalog/events/6171818-circular-230-and-rogue-retur
 n-preparers-2024-22-04
DTSTART;TZID=America/Chicago:20240422T083000
DTEND;TZID=America/Chicago:20240422T103000
END:VEVENT
END:VCALENDAR