BEGIN:VCALENDAR
VERSION:2.0
PRODID:spatie/icalendar-generator
NAME:Seeing Beyond the Numbers: Analysis for CFOs & Controllers
X-WR-CALNAME:Seeing Beyond the Numbers: Analysis for CFOs & Controllers
BEGIN:VTIMEZONE
TZID:America/Chicago
BEGIN:STANDARD
DTSTART:20241103T010000
TZOFFSETFROM:-0500
TZOFFSETTO:-0600
END:STANDARD
BEGIN:DAYLIGHT
DTSTART:20250309T010000
TZOFFSETFROM:-0600
TZOFFSETTO:-0500
END:DAYLIGHT
END:VTIMEZONE
BEGIN:VTIMEZONE
TZID:UTC
BEGIN:STANDARD
DTSTART:20250729T191310
TZOFFSETFROM:+0000
TZOFFSETTO:+0000
END:STANDARD
END:VTIMEZONE
BEGIN:VEVENT
UID:69ed1246b43b7
DTSTAMP:20260425T191310Z
SUMMARY:Seeing Beyond the Numbers: Analysis for CFOs & Controllers
URL:https://alabama.cpa/catalog/events/6538238-seeing-beyond-the-numbers-an
 alysis-for-cfos-controllers-2025-20-02
DTSTART;TZID=America/Chicago:20250220T100000
DTEND;TZID=America/Chicago:20250220T140000
END:VEVENT
END:VCALENDAR