BEGIN:VCALENDAR
VERSION:2.0
PRODID:spatie/icalendar-generator
NAME:Understanding the Form 990 and its Preparation Prerequisites
X-WR-CALNAME:Understanding the Form 990 and its Preparation Prerequisites
BEGIN:VTIMEZONE
TZID:America/Chicago
BEGIN:STANDARD
DTSTART:20241103T010000
TZOFFSETFROM:-0500
TZOFFSETTO:-0600
END:STANDARD
BEGIN:DAYLIGHT
DTSTART:20250309T010000
TZOFFSETFROM:-0600
TZOFFSETTO:-0500
END:DAYLIGHT
END:VTIMEZONE
BEGIN:VTIMEZONE
TZID:UTC
BEGIN:STANDARD
DTSTART:20250725T140622
TZOFFSETFROM:+0000
TZOFFSETTO:+0000
END:STANDARD
END:VTIMEZONE
BEGIN:VEVENT
UID:69e7845eadb37
DTSTAMP:20260421T140622Z
SUMMARY:Understanding the Form 990 and its Preparation Prerequisites
URL:https://alabama.cpa/catalog/events/6538892-understanding-the-form-990-a
 nd-its-preparation-prerequisites-2025-03-03
DTSTART;TZID=America/Chicago:20250303T143000
DTEND;TZID=America/Chicago:20250303T163000
END:VEVENT
END:VCALENDAR