BEGIN:VCALENDAR
VERSION:2.0
PRODID:spatie/icalendar-generator
NAME:Excel - Building Powerful Lookup & Reference Formulas
X-WR-CALNAME:Excel - Building Powerful Lookup & Reference Formulas
BEGIN:VTIMEZONE
TZID:America/Chicago
BEGIN:STANDARD
DTSTART:20241103T010000
TZOFFSETFROM:-0500
TZOFFSETTO:-0600
END:STANDARD
BEGIN:DAYLIGHT
DTSTART:20250309T010000
TZOFFSETFROM:-0600
TZOFFSETTO:-0500
END:DAYLIGHT
END:VTIMEZONE
BEGIN:VTIMEZONE
TZID:UTC
BEGIN:STANDARD
DTSTART:20250726T202349
TZOFFSETFROM:+0000
TZOFFSETTO:+0000
END:STANDARD
END:VTIMEZONE
BEGIN:VEVENT
UID:69e92e555f9d6
DTSTAMP:20260422T202349Z
SUMMARY:Excel - Building Powerful Lookup & Reference Formulas
URL:https://alabama.cpa/catalog/events/6539066-excel-building-powerful-look
 up-reference-formulas-2025-06-03
DTSTART;TZID=America/Chicago:20250306T100000
DTEND;TZID=America/Chicago:20250306T120000
END:VEVENT
END:VCALENDAR