BEGIN:VCALENDAR
VERSION:2.0
PRODID:spatie/icalendar-generator
NAME:The 10 Must Know Excel Features
X-WR-CALNAME:The 10 Must Know Excel Features
BEGIN:VTIMEZONE
TZID:America/Chicago
BEGIN:STANDARD
DTSTART:20241103T010000
TZOFFSETFROM:-0500
TZOFFSETTO:-0600
END:STANDARD
BEGIN:DAYLIGHT
DTSTART:20250309T010000
TZOFFSETFROM:-0600
TZOFFSETTO:-0500
END:DAYLIGHT
END:VTIMEZONE
BEGIN:VTIMEZONE
TZID:UTC
BEGIN:STANDARD
DTSTART:20250726T014957
TZOFFSETFROM:+0000
TZOFFSETTO:+0000
END:STANDARD
END:VTIMEZONE
BEGIN:VEVENT
UID:69e82945f0dec
DTSTAMP:20260422T014957Z
SUMMARY:The 10 Must Know Excel Features
URL:https://alabama.cpa/catalog/events/6539209-the-10-must-know-excel-featu
 res-2025-10-03
DTSTART;TZID=America/Chicago:20250310T090000
DTEND;TZID=America/Chicago:20250310T110000
END:VEVENT
END:VCALENDAR