BEGIN:VCALENDAR
VERSION:2.0
PRODID:spatie/icalendar-generator
NAME:Payroll Essentials: Fringe Benefits: Taxable or Not?
X-WR-CALNAME:Payroll Essentials: Fringe Benefits: Taxable or Not?
BEGIN:VTIMEZONE
TZID:America/Chicago
BEGIN:STANDARD
DTSTART:20241103T010000
TZOFFSETFROM:-0500
TZOFFSETTO:-0600
END:STANDARD
BEGIN:DAYLIGHT
DTSTART:20250309T010000
TZOFFSETFROM:-0600
TZOFFSETTO:-0500
END:DAYLIGHT
END:VTIMEZONE
BEGIN:VTIMEZONE
TZID:UTC
BEGIN:STANDARD
DTSTART:20250730T015734
TZOFFSETFROM:+0000
TZOFFSETTO:+0000
END:STANDARD
END:VTIMEZONE
BEGIN:VEVENT
UID:69ed710e76606
DTSTAMP:20260426T015734Z
SUMMARY:Payroll Essentials: Fringe Benefits: Taxable or Not?
URL:https://alabama.cpa/catalog/events/6539233-payroll-essentials-fringe-be
 nefits-taxable-or-not-2025-10-03
DTSTART;TZID=America/Chicago:20250310T120000
DTEND;TZID=America/Chicago:20250310T140000
END:VEVENT
END:VCALENDAR