BEGIN:VCALENDAR
VERSION:2.0
PRODID:spatie/icalendar-generator
NAME:Auditing\, SSARS and Attest Update
X-WR-CALNAME:Auditing\, SSARS and Attest Update
BEGIN:VTIMEZONE
TZID:America/Chicago
BEGIN:STANDARD
DTSTART:20241103T010000
TZOFFSETFROM:-0500
TZOFFSETTO:-0600
END:STANDARD
BEGIN:DAYLIGHT
DTSTART:20250309T010000
TZOFFSETFROM:-0600
TZOFFSETTO:-0500
END:DAYLIGHT
END:VTIMEZONE
BEGIN:VTIMEZONE
TZID:UTC
BEGIN:STANDARD
DTSTART:20250724T144018
TZOFFSETFROM:+0000
TZOFFSETTO:+0000
END:STANDARD
END:VTIMEZONE
BEGIN:VEVENT
UID:69e63ad225fee
DTSTAMP:20260420T144018Z
SUMMARY:Auditing\, SSARS and Attest Update
URL:https://alabama.cpa/catalog/events/6539667-auditing-ssars-and-attest-up
 date-2025-18-03
DTSTART;TZID=America/Chicago:20250318T110000
DTEND;TZID=America/Chicago:20250318T130000
END:VEVENT
END:VCALENDAR