BEGIN:VCALENDAR
VERSION:2.0
PRODID:spatie/icalendar-generator
NAME:Cognitive Biases for Accountants
X-WR-CALNAME:Cognitive Biases for Accountants
BEGIN:VTIMEZONE
TZID:America/Chicago
BEGIN:STANDARD
DTSTART:20241103T010000
TZOFFSETFROM:-0500
TZOFFSETTO:-0600
END:STANDARD
BEGIN:DAYLIGHT
DTSTART:20250309T010000
TZOFFSETFROM:-0600
TZOFFSETTO:-0500
END:DAYLIGHT
END:VTIMEZONE
BEGIN:VTIMEZONE
TZID:UTC
BEGIN:STANDARD
DTSTART:20250725T060908
TZOFFSETFROM:+0000
TZOFFSETTO:+0000
END:STANDARD
END:VTIMEZONE
BEGIN:VEVENT
UID:69e714841b93e
DTSTAMP:20260421T060908Z
SUMMARY:Cognitive Biases for Accountants
URL:https://alabama.cpa/catalog/events/6539696-cognitive-biases-for-account
 ants-2025-18-03
DTSTART;TZID=America/Chicago:20250318T130000
DTEND;TZID=America/Chicago:20250318T150000
END:VEVENT
END:VCALENDAR