BEGIN:VCALENDAR
VERSION:2.0
PRODID:spatie/icalendar-generator
NAME:The New Psychology of Fraud with Dr. Toby Groves
X-WR-CALNAME:The New Psychology of Fraud with Dr. Toby Groves
BEGIN:VTIMEZONE
TZID:America/Chicago
BEGIN:STANDARD
DTSTART:20241103T010000
TZOFFSETFROM:-0500
TZOFFSETTO:-0600
END:STANDARD
BEGIN:DAYLIGHT
DTSTART:20250309T010000
TZOFFSETFROM:-0600
TZOFFSETTO:-0500
END:DAYLIGHT
END:VTIMEZONE
BEGIN:VTIMEZONE
TZID:UTC
BEGIN:STANDARD
DTSTART:20250726T110500
TZOFFSETFROM:+0000
TZOFFSETTO:+0000
END:STANDARD
END:VTIMEZONE
BEGIN:VEVENT
UID:69e8ab5c5ac12
DTSTAMP:20260422T110500Z
SUMMARY:The New Psychology of Fraud with Dr. Toby Groves
URL:https://alabama.cpa/catalog/events/6539873-the-new-psychology-of-fraud-
 with-dr-toby-groves-2025-21-03
DTSTART;TZID=America/Chicago:20250321T120000
DTEND;TZID=America/Chicago:20250321T140000
END:VEVENT
END:VCALENDAR