BEGIN:VCALENDAR
VERSION:2.0
PRODID:spatie/icalendar-generator
NAME:Auditing Impairment of Long-Lived Assets
X-WR-CALNAME:Auditing Impairment of Long-Lived Assets
BEGIN:VTIMEZONE
TZID:America/Chicago
BEGIN:STANDARD
DTSTART:20241103T010000
TZOFFSETFROM:-0500
TZOFFSETTO:-0600
END:STANDARD
BEGIN:DAYLIGHT
DTSTART:20250309T010000
TZOFFSETFROM:-0600
TZOFFSETTO:-0500
END:DAYLIGHT
END:VTIMEZONE
BEGIN:VTIMEZONE
TZID:UTC
BEGIN:STANDARD
DTSTART:20250725T015541
TZOFFSETFROM:+0000
TZOFFSETTO:+0000
END:STANDARD
END:VTIMEZONE
BEGIN:VEVENT
UID:69e6d91d00a20
DTSTAMP:20260421T015541Z
SUMMARY:Auditing Impairment of Long-Lived Assets
URL:https://alabama.cpa/catalog/events/6539885-auditing-impairment-of-long-
 lived-assets-2025-21-03
DTSTART;TZID=America/Chicago:20250321T143000
DTEND;TZID=America/Chicago:20250321T163000
END:VEVENT
END:VCALENDAR