BEGIN:VCALENDAR
VERSION:2.0
PRODID:spatie/icalendar-generator
NAME:Servant Leadership 101
X-WR-CALNAME:Servant Leadership 101
BEGIN:VTIMEZONE
TZID:America/Chicago
BEGIN:STANDARD
DTSTART:20241103T010000
TZOFFSETFROM:-0500
TZOFFSETTO:-0600
END:STANDARD
BEGIN:DAYLIGHT
DTSTART:20250309T010000
TZOFFSETFROM:-0600
TZOFFSETTO:-0500
END:DAYLIGHT
END:VTIMEZONE
BEGIN:VTIMEZONE
TZID:UTC
BEGIN:STANDARD
DTSTART:20250726T164908
TZOFFSETFROM:+0000
TZOFFSETTO:+0000
END:STANDARD
END:VTIMEZONE
BEGIN:VEVENT
UID:69e8fc04a48a7
DTSTAMP:20260422T164908Z
SUMMARY:Servant Leadership 101
URL:https://alabama.cpa/catalog/events/6540421-servant-leadership-101-2025-
 01-04
DTSTART;TZID=America/Chicago:20250401T103000
DTEND;TZID=America/Chicago:20250401T113000
END:VEVENT
END:VCALENDAR