BEGIN:VCALENDAR
VERSION:2.0
PRODID:spatie/icalendar-generator
NAME:The Social Media Blueprint for Accounting Firms
X-WR-CALNAME:The Social Media Blueprint for Accounting Firms
BEGIN:VTIMEZONE
TZID:America/Chicago
BEGIN:STANDARD
DTSTART:20241103T010000
TZOFFSETFROM:-0500
TZOFFSETTO:-0600
END:STANDARD
BEGIN:DAYLIGHT
DTSTART:20250309T010000
TZOFFSETFROM:-0600
TZOFFSETTO:-0500
END:DAYLIGHT
END:VTIMEZONE
BEGIN:VTIMEZONE
TZID:UTC
BEGIN:STANDARD
DTSTART:20250724T134320
TZOFFSETFROM:+0000
TZOFFSETTO:+0000
END:STANDARD
END:VTIMEZONE
BEGIN:VEVENT
UID:69e62d7849ff6
DTSTAMP:20260420T134320Z
SUMMARY:The Social Media Blueprint for Accounting Firms
URL:https://alabama.cpa/catalog/events/6540461-the-social-media-blueprint-f
 or-accounting-firms-2025-01-04
DTSTART;TZID=America/Chicago:20250401T160000
DTEND;TZID=America/Chicago:20250401T170000
END:VEVENT
END:VCALENDAR