BEGIN:VCALENDAR
VERSION:2.0
PRODID:spatie/icalendar-generator
NAME:Becoming Conflict Competent
X-WR-CALNAME:Becoming Conflict Competent
BEGIN:VTIMEZONE
TZID:America/Chicago
BEGIN:STANDARD
DTSTART:20241103T010000
TZOFFSETFROM:-0500
TZOFFSETTO:-0600
END:STANDARD
BEGIN:DAYLIGHT
DTSTART:20250309T010000
TZOFFSETFROM:-0600
TZOFFSETTO:-0500
END:DAYLIGHT
END:VTIMEZONE
BEGIN:VTIMEZONE
TZID:UTC
BEGIN:STANDARD
DTSTART:20250729T133448
TZOFFSETFROM:+0000
TZOFFSETTO:+0000
END:STANDARD
END:VTIMEZONE
BEGIN:VEVENT
UID:69ecc2f84fd10
DTSTAMP:20260425T133448Z
SUMMARY:Becoming Conflict Competent
URL:https://alabama.cpa/catalog/events/6540720-becoming-conflict-competent-
 2025-07-04
DTSTART;TZID=America/Chicago:20250407T130000
DTEND;TZID=America/Chicago:20250407T150000
END:VEVENT
END:VCALENDAR